BEGIN:VCALENDAR
VERSION:2.0
PRODID:-//hacksw/handcal//NONSGML v1.0//EN
CALSCALE:GREGORIAN
X-WR-TIMEZONE:Europe/Vienna
BEGIN:VEVENT
DESCRIPTION:Tržnica Blagajeve dežele
DTSTART:20260430T080000
DTEND:20260430T120000
URL;VALUE=URI:https://www.center-vic.si/si/events/trznica-blagajeve-dezele/2026-04-30
SUMMARY:Tržnica Blagajeve dežele
DTSTAMP:20260424T190858
UID:69ebbfca8b45d
END:VEVENT
END:VCALENDAR